BEGIN:VCALENDAR
VERSION:2.0
PRODID:-//Magic Athletics - ECPv6.15.20//NONSGML v1.0//EN
CALSCALE:GREGORIAN
METHOD:PUBLISH
X-ORIGINAL-URL:https://magic-athletics.com
X-WR-CALDESC:Events for Magic Athletics
REFRESH-INTERVAL;VALUE=DURATION:PT1H
X-Robots-Tag:noindex
X-PUBLISHED-TTL:PT1H
BEGIN:VTIMEZONE
TZID:America/Chicago
BEGIN:DAYLIGHT
TZOFFSETFROM:-0600
TZOFFSETTO:-0500
TZNAME:CDT
DTSTART:20250309T080000
END:DAYLIGHT
BEGIN:STANDARD
TZOFFSETFROM:-0500
TZOFFSETTO:-0600
TZNAME:CST
DTSTART:20251102T070000
END:STANDARD
BEGIN:DAYLIGHT
TZOFFSETFROM:-0600
TZOFFSETTO:-0500
TZNAME:CDT
DTSTART:20260308T080000
END:DAYLIGHT
BEGIN:STANDARD
TZOFFSETFROM:-0500
TZOFFSETTO:-0600
TZNAME:CST
DTSTART:20261101T070000
END:STANDARD
BEGIN:DAYLIGHT
TZOFFSETFROM:-0600
TZOFFSETTO:-0500
TZNAME:CDT
DTSTART:20270314T080000
END:DAYLIGHT
BEGIN:STANDARD
TZOFFSETFROM:-0500
TZOFFSETTO:-0600
TZNAME:CST
DTSTART:20271107T070000
END:STANDARD
END:VTIMEZONE
BEGIN:VEVENT
DTSTART;TZID=America/Chicago:20260123T160000
DTEND;TZID=America/Chicago:20260123T173000
DTSTAMP:20260423T093548
CREATED:20260114T134921Z
LAST-MODIFIED:20260115T152009Z
UID:1571-1769184000-1769189400@magic-athletics.com
SUMMARY:Front Tumbling Clinic
DESCRIPTION:[vc_row][vc_column][vc_single_image image=”1573″ img_size=”full” alignment=”center” css=””][vc_empty_space][vc_column_text css=””]\nPerfect your front walkovers\, handsprings & more! \nDate: Friday\, January 23rd\nTime: 4:00 PM – 5:30 PMAges: 4+Cost: $20 per participant \n[/vc_column_text][vc_empty_space][vc_custom_heading text=”REGISTER TODAY” use_theme_fonts=”yes”][vc_separator style=”solid” color=”#000000″ padding_top=”10″ padding_bottom=”20″][vc_empty_space height=”10px”]Registration Is Now Closed [/vc_column][/vc_row]
URL:https://magic-athletics.com/event/front-tumbling-clinic-2/
CATEGORIES:Upcoming Events
ATTACH;FMTTYPE=image/jpeg:https://magic-athletics.com/wp-content/uploads/2026/01/Copy-of-Copy-of-Front-Tumbling.jpg
END:VEVENT
END:VCALENDAR