BEGIN:VCALENDAR
VERSION:2.0
PRODID:-//Magic Athletics - ECPv6.15.20//NONSGML v1.0//EN
CALSCALE:GREGORIAN
METHOD:PUBLISH
X-WR-CALNAME:Magic Athletics
X-ORIGINAL-URL:https://magic-athletics.com
X-WR-CALDESC:Events for Magic Athletics
REFRESH-INTERVAL;VALUE=DURATION:PT1H
X-Robots-Tag:noindex
X-PUBLISHED-TTL:PT1H
BEGIN:VTIMEZONE
TZID:America/Chicago
BEGIN:DAYLIGHT
TZOFFSETFROM:-0600
TZOFFSETTO:-0500
TZNAME:CDT
DTSTART:20250309T080000
END:DAYLIGHT
BEGIN:STANDARD
TZOFFSETFROM:-0500
TZOFFSETTO:-0600
TZNAME:CST
DTSTART:20251102T070000
END:STANDARD
BEGIN:DAYLIGHT
TZOFFSETFROM:-0600
TZOFFSETTO:-0500
TZNAME:CDT
DTSTART:20260308T080000
END:DAYLIGHT
BEGIN:STANDARD
TZOFFSETFROM:-0500
TZOFFSETTO:-0600
TZNAME:CST
DTSTART:20261101T070000
END:STANDARD
BEGIN:DAYLIGHT
TZOFFSETFROM:-0600
TZOFFSETTO:-0500
TZNAME:CDT
DTSTART:20270314T080000
END:DAYLIGHT
BEGIN:STANDARD
TZOFFSETFROM:-0500
TZOFFSETTO:-0600
TZNAME:CST
DTSTART:20271107T070000
END:STANDARD
END:VTIMEZONE
BEGIN:VEVENT
DTSTART;VALUE=DATE:20260622
DTEND;VALUE=DATE:20260627
DTSTAMP:20260425T153710
CREATED:20260127T204816Z
LAST-MODIFIED:20260127T210527Z
UID:1585-1782086400-1782518399@magic-athletics.com
SUMMARY:Nerf Week
DESCRIPTION:
URL:https://magic-athletics.com/test-summer-camps/#register
CATEGORIES:Summer Camp Week
END:VEVENT
BEGIN:VEVENT
DTSTART;VALUE=DATE:20260623
DTEND;VALUE=DATE:20260624
DTSTAMP:20260425T153710
CREATED:20260127T213628Z
LAST-MODIFIED:20260127T213628Z
UID:1615-1782172800-1782259199@magic-athletics.com
SUMMARY:June 23rd\, Nerf Week
DESCRIPTION:
URL:https://magic-athletics.com/test-summer-camps/#register
CATEGORIES:Summer Camp Day
END:VEVENT
BEGIN:VEVENT
DTSTART;VALUE=DATE:20260624
DTEND;VALUE=DATE:20260625
DTSTAMP:20260425T153710
CREATED:20260127T214001Z
LAST-MODIFIED:20260127T214001Z
UID:1617-1782259200-1782345599@magic-athletics.com
SUMMARY:June 24th\, Nerf Week
DESCRIPTION:
URL:https://magic-athletics.com/test-summer-camps/#register
CATEGORIES:Summer Camp Day
END:VEVENT
BEGIN:VEVENT
DTSTART;VALUE=DATE:20260625
DTEND;VALUE=DATE:20260626
DTSTAMP:20260425T153710
CREATED:20260127T214032Z
LAST-MODIFIED:20260127T214032Z
UID:1618-1782345600-1782431999@magic-athletics.com
SUMMARY:June 25th\, Nerf Week
DESCRIPTION:
URL:https://magic-athletics.com/test-summer-camps/#register
CATEGORIES:Summer Camp Day
END:VEVENT
BEGIN:VEVENT
DTSTART;VALUE=DATE:20260626
DTEND;VALUE=DATE:20260627
DTSTAMP:20260425T153710
CREATED:20260127T214101Z
LAST-MODIFIED:20260127T214101Z
UID:1619-1782432000-1782518399@magic-athletics.com
SUMMARY:June 26th\, Nerf Week
DESCRIPTION:
URL:https://magic-athletics.com/test-summer-camps/#register
CATEGORIES:Summer Camp Day
END:VEVENT
BEGIN:VEVENT
DTSTART;VALUE=DATE:20260706
DTEND;VALUE=DATE:20260707
DTSTAMP:20260425T153710
CREATED:20260127T214133Z
LAST-MODIFIED:20260127T214133Z
UID:1620-1783296000-1783382399@magic-athletics.com
SUMMARY:July 6th\, Splash Camp
DESCRIPTION:
URL:https://magic-athletics.com/test-summer-camps/#register
CATEGORIES:Summer Camp Day
END:VEVENT
BEGIN:VEVENT
DTSTART;VALUE=DATE:20260706
DTEND;VALUE=DATE:20260711
DTSTAMP:20260425T153710
CREATED:20260127T204913Z
LAST-MODIFIED:20260127T204913Z
UID:1586-1783296000-1783727999@magic-athletics.com
SUMMARY:Splash Camp
DESCRIPTION:
URL:https://magic-athletics.com/test-summer-camps/#register
CATEGORIES:Summer Camp Week
END:VEVENT
BEGIN:VEVENT
DTSTART;VALUE=DATE:20260707
DTEND;VALUE=DATE:20260708
DTSTAMP:20260425T153710
CREATED:20260127T214154Z
LAST-MODIFIED:20260127T214154Z
UID:1621-1783382400-1783468799@magic-athletics.com
SUMMARY:July 7th\, Splash Camp
DESCRIPTION:
URL:https://magic-athletics.com/test-summer-camps/#register
CATEGORIES:Summer Camp Day
END:VEVENT
BEGIN:VEVENT
DTSTART;VALUE=DATE:20260708
DTEND;VALUE=DATE:20260709
DTSTAMP:20260425T153710
CREATED:20260127T214212Z
LAST-MODIFIED:20260127T214212Z
UID:1622-1783468800-1783555199@magic-athletics.com
SUMMARY:July 8th\, Splash Camp
DESCRIPTION:
URL:https://magic-athletics.com/test-summer-camps/#register
CATEGORIES:Summer Camp Day
END:VEVENT
BEGIN:VEVENT
DTSTART;VALUE=DATE:20260709
DTEND;VALUE=DATE:20260710
DTSTAMP:20260425T153710
CREATED:20260127T214234Z
LAST-MODIFIED:20260127T214234Z
UID:1623-1783555200-1783641599@magic-athletics.com
SUMMARY:July 9th\, Splash Camp
DESCRIPTION:
URL:https://magic-athletics.com/test-summer-camps/#register
CATEGORIES:Summer Camp Day
END:VEVENT
BEGIN:VEVENT
DTSTART;VALUE=DATE:20260710
DTEND;VALUE=DATE:20260711
DTSTAMP:20260425T153710
CREATED:20260127T214304Z
LAST-MODIFIED:20260127T214304Z
UID:1624-1783641600-1783727999@magic-athletics.com
SUMMARY:July 10th\, Splash Camp
DESCRIPTION:
URL:https://magic-athletics.com/test-summer-camps/#register
CATEGORIES:Summer Camp Day
END:VEVENT
BEGIN:VEVENT
DTSTART;VALUE=DATE:20260713
DTEND;VALUE=DATE:20260714
DTSTAMP:20260425T153710
CREATED:20260127T214342Z
LAST-MODIFIED:20260127T214342Z
UID:1625-1783900800-1783987199@magic-athletics.com
SUMMARY:July 13th\, Sports Week
DESCRIPTION:
URL:https://magic-athletics.com/test-summer-camps/#register
CATEGORIES:Summer Camp Day
END:VEVENT
BEGIN:VEVENT
DTSTART;VALUE=DATE:20260713
DTEND;VALUE=DATE:20260718
DTSTAMP:20260425T153710
CREATED:20260127T205103Z
LAST-MODIFIED:20260127T205122Z
UID:1587-1783900800-1784332799@magic-athletics.com
SUMMARY:Sports Week
DESCRIPTION:
URL:https://magic-athletics.com/test-summer-camps/#register
CATEGORIES:Summer Camp Week
END:VEVENT
BEGIN:VEVENT
DTSTART;VALUE=DATE:20260714
DTEND;VALUE=DATE:20260715
DTSTAMP:20260425T153710
CREATED:20260127T214415Z
LAST-MODIFIED:20260127T214415Z
UID:1627-1783987200-1784073599@magic-athletics.com
SUMMARY:July 14th\, Sports Week
DESCRIPTION:
URL:https://magic-athletics.com/test-summer-camps/#register
CATEGORIES:Summer Camp Day
END:VEVENT
BEGIN:VEVENT
DTSTART;VALUE=DATE:20260715
DTEND;VALUE=DATE:20260716
DTSTAMP:20260425T153710
CREATED:20260127T214436Z
LAST-MODIFIED:20260127T214436Z
UID:1628-1784073600-1784159999@magic-athletics.com
SUMMARY:July 15th\, Sports Week
DESCRIPTION:
URL:https://magic-athletics.com/test-summer-camps/#register
CATEGORIES:Summer Camp Day
END:VEVENT
BEGIN:VEVENT
DTSTART;VALUE=DATE:20260716
DTEND;VALUE=DATE:20260717
DTSTAMP:20260425T153710
CREATED:20260127T214511Z
LAST-MODIFIED:20260127T214511Z
UID:1629-1784160000-1784246399@magic-athletics.com
SUMMARY:July 16th\, Sports Week
DESCRIPTION:
URL:https://magic-athletics.com/test-summer-camps/#register
CATEGORIES:Summer Camp Day
END:VEVENT
BEGIN:VEVENT
DTSTART;VALUE=DATE:20260717
DTEND;VALUE=DATE:20260718
DTSTAMP:20260425T153710
CREATED:20260127T214533Z
LAST-MODIFIED:20260127T214533Z
UID:1630-1784246400-1784332799@magic-athletics.com
SUMMARY:July 17th\, Sports Week
DESCRIPTION:
URL:https://magic-athletics.com/test-summer-camps/#register
CATEGORIES:Summer Camp Day
END:VEVENT
BEGIN:VEVENT
DTSTART;VALUE=DATE:20260720
DTEND;VALUE=DATE:20260721
DTSTAMP:20260425T153710
CREATED:20260127T214641Z
LAST-MODIFIED:20260127T214641Z
UID:1631-1784505600-1784591999@magic-athletics.com
SUMMARY:July 20th\, Tumble & Tie Dye
DESCRIPTION:
URL:https://magic-athletics.com/test-summer-camps/#register
CATEGORIES:Summer Camp Day
END:VEVENT
BEGIN:VEVENT
DTSTART;VALUE=DATE:20260720
DTEND;VALUE=DATE:20260725
DTSTAMP:20260425T153710
CREATED:20260127T205206Z
LAST-MODIFIED:20260127T205206Z
UID:1588-1784505600-1784937599@magic-athletics.com
SUMMARY:Tumble & Tie Dye
DESCRIPTION:
URL:https://magic-athletics.com/test-summer-camps/#register
CATEGORIES:Summer Camp Week
END:VEVENT
BEGIN:VEVENT
DTSTART;VALUE=DATE:20260721
DTEND;VALUE=DATE:20260722
DTSTAMP:20260425T153710
CREATED:20260127T214701Z
LAST-MODIFIED:20260127T214701Z
UID:1632-1784592000-1784678399@magic-athletics.com
SUMMARY:July 21st\, Tumble & Tie Dye
DESCRIPTION:
URL:https://magic-athletics.com/test-summer-camps/#register
CATEGORIES:Summer Camp Day
END:VEVENT
BEGIN:VEVENT
DTSTART;VALUE=DATE:20260722
DTEND;VALUE=DATE:20260723
DTSTAMP:20260425T153710
CREATED:20260127T214724Z
LAST-MODIFIED:20260127T214724Z
UID:1633-1784678400-1784764799@magic-athletics.com
SUMMARY:July 22nd\, Tumble & Tie Dye
DESCRIPTION:
URL:https://magic-athletics.com/test-summer-camps/#register
CATEGORIES:Summer Camp Day
END:VEVENT
BEGIN:VEVENT
DTSTART;VALUE=DATE:20260723
DTEND;VALUE=DATE:20260724
DTSTAMP:20260425T153710
CREATED:20260127T214748Z
LAST-MODIFIED:20260127T214748Z
UID:1634-1784764800-1784851199@magic-athletics.com
SUMMARY:July 23rd\, Tumble & Tie Dye
DESCRIPTION:
URL:https://magic-athletics.com/test-summer-camps/#register
CATEGORIES:Summer Camp Day
END:VEVENT
BEGIN:VEVENT
DTSTART;VALUE=DATE:20260724
DTEND;VALUE=DATE:20260725
DTSTAMP:20260425T153710
CREATED:20260127T214812Z
LAST-MODIFIED:20260127T214812Z
UID:1635-1784851200-1784937599@magic-athletics.com
SUMMARY:July 24th\, Tumble & Tie Dye
DESCRIPTION:
URL:https://magic-athletics.com/test-summer-camps/#register
CATEGORIES:Summer Camp Day
END:VEVENT
BEGIN:VEVENT
DTSTART;VALUE=DATE:20260727
DTEND;VALUE=DATE:20260728
DTSTAMP:20260425T153710
CREATED:20260127T214919Z
LAST-MODIFIED:20260127T214919Z
UID:1636-1785110400-1785196799@magic-athletics.com
SUMMARY:July 27th\, Nerf Week
DESCRIPTION:
URL:https://magic-athletics.com/test-summer-camps/#register
CATEGORIES:Summer Camp Day
END:VEVENT
BEGIN:VEVENT
DTSTART;VALUE=DATE:20260727
DTEND;VALUE=DATE:20260801
DTSTAMP:20260425T153710
CREATED:20260127T205252Z
LAST-MODIFIED:20260127T205252Z
UID:1589-1785110400-1785542399@magic-athletics.com
SUMMARY:Nerf Week
DESCRIPTION:
URL:https://magic-athletics.com/test-summer-camps/#register
CATEGORIES:Summer Camp Week
END:VEVENT
BEGIN:VEVENT
DTSTART;VALUE=DATE:20260728
DTEND;VALUE=DATE:20260729
DTSTAMP:20260425T153710
CREATED:20260127T214937Z
LAST-MODIFIED:20260127T214937Z
UID:1637-1785196800-1785283199@magic-athletics.com
SUMMARY:July 28th\, Nerf Week
DESCRIPTION:
URL:https://magic-athletics.com/test-summer-camps/#register
CATEGORIES:Summer Camp Day
END:VEVENT
BEGIN:VEVENT
DTSTART;VALUE=DATE:20260729
DTEND;VALUE=DATE:20260730
DTSTAMP:20260425T153710
CREATED:20260127T214956Z
LAST-MODIFIED:20260127T214956Z
UID:1638-1785283200-1785369599@magic-athletics.com
SUMMARY:July 29th\, Nerf Week
DESCRIPTION:
URL:https://magic-athletics.com/test-summer-camps/#register
CATEGORIES:Summer Camp Day
END:VEVENT
BEGIN:VEVENT
DTSTART;VALUE=DATE:20260730
DTEND;VALUE=DATE:20260731
DTSTAMP:20260425T153710
CREATED:20260127T215018Z
LAST-MODIFIED:20260127T215018Z
UID:1639-1785369600-1785455999@magic-athletics.com
SUMMARY:July 30th\, Nerf Week
DESCRIPTION:
URL:https://magic-athletics.com/test-summer-camps/#register
CATEGORIES:Summer Camp Day
END:VEVENT
BEGIN:VEVENT
DTSTART;VALUE=DATE:20260731
DTEND;VALUE=DATE:20260801
DTSTAMP:20260425T153710
CREATED:20260127T215040Z
LAST-MODIFIED:20260127T215040Z
UID:1640-1785456000-1785542399@magic-athletics.com
SUMMARY:July 31st\, Nerf Week
DESCRIPTION:
URL:https://magic-athletics.com/test-summer-camps/#register
CATEGORIES:Summer Camp Day
END:VEVENT
END:VCALENDAR