BEGIN:VCALENDAR
VERSION:2.0
PRODID:-//Magic Athletics - ECPv6.15.20//NONSGML v1.0//EN
CALSCALE:GREGORIAN
METHOD:PUBLISH
X-WR-CALNAME:Magic Athletics
X-ORIGINAL-URL:https://magic-athletics.com
X-WR-CALDESC:Events for Magic Athletics
REFRESH-INTERVAL;VALUE=DURATION:PT1H
X-Robots-Tag:noindex
X-PUBLISHED-TTL:PT1H
BEGIN:VTIMEZONE
TZID:America/Chicago
BEGIN:DAYLIGHT
TZOFFSETFROM:-0600
TZOFFSETTO:-0500
TZNAME:CDT
DTSTART:20240310T080000
END:DAYLIGHT
BEGIN:STANDARD
TZOFFSETFROM:-0500
TZOFFSETTO:-0600
TZNAME:CST
DTSTART:20241103T070000
END:STANDARD
BEGIN:DAYLIGHT
TZOFFSETFROM:-0600
TZOFFSETTO:-0500
TZNAME:CDT
DTSTART:20250309T080000
END:DAYLIGHT
BEGIN:STANDARD
TZOFFSETFROM:-0500
TZOFFSETTO:-0600
TZNAME:CST
DTSTART:20251102T070000
END:STANDARD
BEGIN:DAYLIGHT
TZOFFSETFROM:-0600
TZOFFSETTO:-0500
TZNAME:CDT
DTSTART:20260308T080000
END:DAYLIGHT
BEGIN:STANDARD
TZOFFSETFROM:-0500
TZOFFSETTO:-0600
TZNAME:CST
DTSTART:20261101T070000
END:STANDARD
END:VTIMEZONE
BEGIN:VEVENT
DTSTART;VALUE=DATE:20250728
DTEND;VALUE=DATE:20250729
DTSTAMP:20260425T110134
CREATED:20250307T174906Z
LAST-MODIFIED:20250307T174906Z
UID:1386-1753660800-1753747199@magic-athletics.com
SUMMARY:July 28\, End-Of-Summer Party!
DESCRIPTION:
URL:https://magic-athletics.com/summer-camps/
CATEGORIES:Summer Camp Day
END:VEVENT
BEGIN:VEVENT
DTSTART;VALUE=DATE:20250725
DTEND;VALUE=DATE:20250726
DTSTAMP:20260425T110134
CREATED:20250307T174823Z
LAST-MODIFIED:20250307T174823Z
UID:1385-1753401600-1753487999@magic-athletics.com
SUMMARY:July 25\, Ninja Warrior Camp
DESCRIPTION:
URL:https://magic-athletics.com/summer-camps/
CATEGORIES:Summer Camp Day
END:VEVENT
BEGIN:VEVENT
DTSTART;VALUE=DATE:20250724
DTEND;VALUE=DATE:20250725
DTSTAMP:20260425T110134
CREATED:20250307T174652Z
LAST-MODIFIED:20250307T174755Z
UID:1384-1753315200-1753401599@magic-athletics.com
SUMMARY:July 24\, Ninja Warrior Camp
DESCRIPTION:
URL:https://magic-athletics.com/summer-camps/
CATEGORIES:Summer Camp Day
END:VEVENT
BEGIN:VEVENT
DTSTART;VALUE=DATE:20250723
DTEND;VALUE=DATE:20250724
DTSTAMP:20260425T110134
CREATED:20250307T174626Z
LAST-MODIFIED:20250307T174626Z
UID:1383-1753228800-1753315199@magic-athletics.com
SUMMARY:July 23\, Ninja Warrior Camp
DESCRIPTION:
URL:https://magic-athletics.com/summer-camps/
CATEGORIES:Summer Camp Day
END:VEVENT
BEGIN:VEVENT
DTSTART;VALUE=DATE:20250722
DTEND;VALUE=DATE:20250827
DTSTAMP:20260425T110134
CREATED:20250620T163847Z
LAST-MODIFIED:20250710T230715Z
UID:1457-1753142400-1756252799@magic-athletics.com
SUMMARY:Cheer Workshop Class
DESCRIPTION:[vc_row][vc_column][vc_single_image image=”1462″ img_size=”full” alignment=”center” css=””][vc_empty_space][vc_column_text css=””]\nGet ready to cheer\, jump\, and shout! Magic Athletics is excited to offer our Cheer Workshop Class. This dynamic class will have your child learning the basics of cheerleading\, including cheers\, jumps\, and basic stunts\, all while having a blast and building confidence! This class is 6 weeks long for one hour a week! \nThis workshop will include a performance outfit and a mini showcase that will be held during the final week of class! \nDate: July 22nd – August 26th\nClass Time: Tuesdays 5:30 pm – 6:30 pm\nAges: 3-18 \n[/vc_column_text][vc_empty_space][vc_custom_heading text=”REGISTER NOW” use_theme_fonts=”yes”][vc_separator style=”solid” color=”#000000″ padding_top=”10″ padding_bottom=”20″]Registration Is Now Closed [/vc_column][/vc_row]
URL:https://magic-athletics.com/event/cheer-workshop-class/
CATEGORIES:Upcoming Events
ATTACH;FMTTYPE=image/jpeg:https://magic-athletics.com/wp-content/uploads/2025/06/Copy-of-Copy-of-Copy-of-Copy-of-Copy-of-Cheer-Workshop-Classes.jpg
END:VEVENT
BEGIN:VEVENT
DTSTART;VALUE=DATE:20250722
DTEND;VALUE=DATE:20250723
DTSTAMP:20260425T110134
CREATED:20250307T174556Z
LAST-MODIFIED:20250307T174556Z
UID:1382-1753142400-1753228799@magic-athletics.com
SUMMARY:July 22\, Ninja Warrior Camp
DESCRIPTION:
URL:https://magic-athletics.com/summer-camps/
CATEGORIES:Summer Camp Day
END:VEVENT
BEGIN:VEVENT
DTSTART;VALUE=DATE:20250721
DTEND;VALUE=DATE:20250726
DTSTAMP:20260425T110134
CREATED:20250307T171001Z
LAST-MODIFIED:20250310T205610Z
UID:1344-1753056000-1753487999@magic-athletics.com
SUMMARY:Ninja Warrior Camp
DESCRIPTION:
URL:https://magic-athletics.com/summer-camps/
CATEGORIES:Summer Camp Week
END:VEVENT
BEGIN:VEVENT
DTSTART;VALUE=DATE:20250721
DTEND;VALUE=DATE:20250722
DTSTAMP:20260425T110134
CREATED:20250307T174520Z
LAST-MODIFIED:20250307T174520Z
UID:1381-1753056000-1753142399@magic-athletics.com
SUMMARY:July 21\, Ninja Warrior Camp
DESCRIPTION:
URL:https://magic-athletics.com/summer-camps/
CATEGORIES:Summer Camp Day
END:VEVENT
BEGIN:VEVENT
DTSTART;VALUE=DATE:20250718
DTEND;VALUE=DATE:20250719
DTSTAMP:20260425T110134
CREATED:20250307T174452Z
LAST-MODIFIED:20250307T174452Z
UID:1380-1752796800-1752883199@magic-athletics.com
SUMMARY:July 18\, Splash Camp
DESCRIPTION:
URL:https://magic-athletics.com/summer-camps/
CATEGORIES:Summer Camp Day
END:VEVENT
BEGIN:VEVENT
DTSTART;VALUE=DATE:20250717
DTEND;VALUE=DATE:20250718
DTSTAMP:20260425T110134
CREATED:20250307T174431Z
LAST-MODIFIED:20250307T174431Z
UID:1379-1752710400-1752796799@magic-athletics.com
SUMMARY:July 17\, Splash Camp
DESCRIPTION:
URL:https://magic-athletics.com/summer-camps/
CATEGORIES:Summer Camp Day
END:VEVENT
BEGIN:VEVENT
DTSTART;VALUE=DATE:20250716
DTEND;VALUE=DATE:20250717
DTSTAMP:20260425T110134
CREATED:20250307T174411Z
LAST-MODIFIED:20250307T174411Z
UID:1378-1752624000-1752710399@magic-athletics.com
SUMMARY:July 16\, Splash Camp
DESCRIPTION:
URL:https://magic-athletics.com/summer-camps/
CATEGORIES:Summer Camp Day
END:VEVENT
BEGIN:VEVENT
DTSTART;VALUE=DATE:20250715
DTEND;VALUE=DATE:20250716
DTSTAMP:20260425T110134
CREATED:20250307T174351Z
LAST-MODIFIED:20250307T174351Z
UID:1377-1752537600-1752623999@magic-athletics.com
SUMMARY:July 15\, Splash Camp
DESCRIPTION:
URL:https://magic-athletics.com/summer-camps/
CATEGORIES:Summer Camp Day
END:VEVENT
BEGIN:VEVENT
DTSTART;VALUE=DATE:20250714
DTEND;VALUE=DATE:20250719
DTSTAMP:20260425T110134
CREATED:20250307T170924Z
LAST-MODIFIED:20250310T205624Z
UID:1343-1752451200-1752883199@magic-athletics.com
SUMMARY:Splash Camp
DESCRIPTION:
URL:https://magic-athletics.com/summer-camps/
CATEGORIES:Summer Camp Week
END:VEVENT
BEGIN:VEVENT
DTSTART;VALUE=DATE:20250714
DTEND;VALUE=DATE:20250715
DTSTAMP:20260425T110134
CREATED:20250307T174331Z
LAST-MODIFIED:20250307T174331Z
UID:1376-1752451200-1752537599@magic-athletics.com
SUMMARY:July 14\, Splash Camp
DESCRIPTION:
URL:https://magic-athletics.com/summer-camps/
CATEGORIES:Summer Camp Day
END:VEVENT
BEGIN:VEVENT
DTSTART;VALUE=DATE:20250711
DTEND;VALUE=DATE:20250712
DTSTAMP:20260425T110134
CREATED:20250307T174259Z
LAST-MODIFIED:20250307T174259Z
UID:1375-1752192000-1752278399@magic-athletics.com
SUMMARY:July 11\, First Responder Week
DESCRIPTION:
URL:https://magic-athletics.com/summer-camps/
CATEGORIES:Summer Camp Day
END:VEVENT
BEGIN:VEVENT
DTSTART;VALUE=DATE:20250710
DTEND;VALUE=DATE:20250711
DTSTAMP:20260425T110134
CREATED:20250307T174239Z
LAST-MODIFIED:20250307T174239Z
UID:1374-1752105600-1752191999@magic-athletics.com
SUMMARY:July 10\, First Responder Week
DESCRIPTION:
URL:https://magic-athletics.com/summer-camps/
CATEGORIES:Summer Camp Day
END:VEVENT
BEGIN:VEVENT
DTSTART;VALUE=DATE:20250709
DTEND;VALUE=DATE:20250710
DTSTAMP:20260425T110134
CREATED:20250307T174216Z
LAST-MODIFIED:20250307T174216Z
UID:1373-1752019200-1752105599@magic-athletics.com
SUMMARY:July 9\, First Responder Week
DESCRIPTION:
URL:https://magic-athletics.com/summer-camps/
CATEGORIES:Summer Camp Day
END:VEVENT
BEGIN:VEVENT
DTSTART;VALUE=DATE:20250708
DTEND;VALUE=DATE:20250709
DTSTAMP:20260425T110134
CREATED:20250307T174146Z
LAST-MODIFIED:20250307T174146Z
UID:1372-1751932800-1752019199@magic-athletics.com
SUMMARY:July 8\, First Responder Week
DESCRIPTION:
URL:https://magic-athletics.com/summer-camps/
CATEGORIES:Summer Camp Day
END:VEVENT
BEGIN:VEVENT
DTSTART;VALUE=DATE:20250707
DTEND;VALUE=DATE:20250712
DTSTAMP:20260425T110134
CREATED:20250307T170852Z
LAST-MODIFIED:20250310T205639Z
UID:1342-1751846400-1752278399@magic-athletics.com
SUMMARY:First Responder Week
DESCRIPTION:
URL:https://magic-athletics.com/summer-camps/
CATEGORIES:Summer Camp Week
END:VEVENT
BEGIN:VEVENT
DTSTART;VALUE=DATE:20250707
DTEND;VALUE=DATE:20250708
DTSTAMP:20260425T110134
CREATED:20250307T174124Z
LAST-MODIFIED:20250307T174124Z
UID:1371-1751846400-1751932799@magic-athletics.com
SUMMARY:July 7\, First Responder Week
DESCRIPTION:
URL:https://magic-athletics.com/summer-camps/
CATEGORIES:Summer Camp Day
END:VEVENT
BEGIN:VEVENT
DTSTART;VALUE=DATE:20250627
DTEND;VALUE=DATE:20250628
DTSTAMP:20260425T110134
CREATED:20250307T174053Z
LAST-MODIFIED:20250425T140400Z
UID:1370-1750982400-1751068799@magic-athletics.com
SUMMARY:June 27\, Nerf Camp
DESCRIPTION:
URL:https://magic-athletics.com/summer-camps/
CATEGORIES:Summer Camp Day
END:VEVENT
BEGIN:VEVENT
DTSTART;VALUE=DATE:20250626
DTEND;VALUE=DATE:20250627
DTSTAMP:20260425T110134
CREATED:20250307T174030Z
LAST-MODIFIED:20250425T140358Z
UID:1369-1750896000-1750982399@magic-athletics.com
SUMMARY:June 26\, Nerf Camp
DESCRIPTION:
URL:https://magic-athletics.com/summer-camps/
CATEGORIES:Summer Camp Day
END:VEVENT
BEGIN:VEVENT
DTSTART;VALUE=DATE:20250625
DTEND;VALUE=DATE:20250626
DTSTAMP:20260425T110134
CREATED:20250307T174008Z
LAST-MODIFIED:20250425T140357Z
UID:1368-1750809600-1750895999@magic-athletics.com
SUMMARY:June 25\, Nerf Camp
DESCRIPTION:
URL:https://magic-athletics.com/summer-camps/
CATEGORIES:Summer Camp Day
END:VEVENT
BEGIN:VEVENT
DTSTART;VALUE=DATE:20250623
DTEND;VALUE=DATE:20250628
DTSTAMP:20260425T110134
CREATED:20250307T170820Z
LAST-MODIFIED:20250425T140351Z
UID:1341-1750636800-1751068799@magic-athletics.com
SUMMARY:Nerf Camp
DESCRIPTION:
URL:https://magic-athletics.com/summer-camps/
CATEGORIES:Summer Camp Week
END:VEVENT
BEGIN:VEVENT
DTSTART;VALUE=DATE:20250624
DTEND;VALUE=DATE:20250625
DTSTAMP:20260425T110134
CREATED:20250307T173944Z
LAST-MODIFIED:20250425T140355Z
UID:1367-1750723200-1750809599@magic-athletics.com
SUMMARY:June 24\, Nerf Camp
DESCRIPTION:
URL:https://magic-athletics.com/summer-camps/
CATEGORIES:Summer Camp Day
END:VEVENT
BEGIN:VEVENT
DTSTART;VALUE=DATE:20250623
DTEND;VALUE=DATE:20250624
DTSTAMP:20260425T110134
CREATED:20250307T173922Z
LAST-MODIFIED:20250425T140353Z
UID:1366-1750636800-1750723199@magic-athletics.com
SUMMARY:June 23\, Nerf Camp
DESCRIPTION:
URL:https://magic-athletics.com/summer-camps/
CATEGORIES:Summer Camp Day
END:VEVENT
BEGIN:VEVENT
DTSTART;VALUE=DATE:20250620
DTEND;VALUE=DATE:20250621
DTSTAMP:20260425T110134
CREATED:20250307T173850Z
LAST-MODIFIED:20250307T173850Z
UID:1365-1750377600-1750463999@magic-athletics.com
SUMMARY:June 20\, Tie Dye & Tumble
DESCRIPTION:
URL:https://magic-athletics.com/summer-camps/
CATEGORIES:Summer Camp Day
END:VEVENT
BEGIN:VEVENT
DTSTART;VALUE=DATE:20250619
DTEND;VALUE=DATE:20250620
DTSTAMP:20260425T110134
CREATED:20250307T173827Z
LAST-MODIFIED:20250307T173827Z
UID:1364-1750291200-1750377599@magic-athletics.com
SUMMARY:June 19\, Tie Dye & Tumble
DESCRIPTION:
URL:https://magic-athletics.com/summer-camps/
CATEGORIES:Summer Camp Day
END:VEVENT
BEGIN:VEVENT
DTSTART;VALUE=DATE:20250618
DTEND;VALUE=DATE:20250619
DTSTAMP:20260425T110134
CREATED:20250307T173800Z
LAST-MODIFIED:20250307T173800Z
UID:1363-1750204800-1750291199@magic-athletics.com
SUMMARY:June 18\, Tie Dye & Tumble
DESCRIPTION:
URL:https://magic-athletics.com/summer-camps/
CATEGORIES:Summer Camp Day
END:VEVENT
BEGIN:VEVENT
DTSTART;VALUE=DATE:20250617
DTEND;VALUE=DATE:20250618
DTSTAMP:20260425T110134
CREATED:20250307T173737Z
LAST-MODIFIED:20250307T173737Z
UID:1362-1750118400-1750204799@magic-athletics.com
SUMMARY:June 17\, Tie Dye & Tumble
DESCRIPTION:
URL:https://magic-athletics.com/summer-camps/
CATEGORIES:Summer Camp Day
END:VEVENT
END:VCALENDAR