BEGIN:VCALENDAR
VERSION:2.0
PRODID:-//Magic Athletics - ECPv6.15.20//NONSGML v1.0//EN
CALSCALE:GREGORIAN
METHOD:PUBLISH
X-ORIGINAL-URL:https://magic-athletics.com
X-WR-CALDESC:Events for Magic Athletics
REFRESH-INTERVAL;VALUE=DURATION:PT1H
X-Robots-Tag:noindex
X-PUBLISHED-TTL:PT1H
BEGIN:VTIMEZONE
TZID:America/Chicago
BEGIN:DAYLIGHT
TZOFFSETFROM:-0600
TZOFFSETTO:-0500
TZNAME:CDT
DTSTART:20250309T080000
END:DAYLIGHT
BEGIN:STANDARD
TZOFFSETFROM:-0500
TZOFFSETTO:-0600
TZNAME:CST
DTSTART:20251102T070000
END:STANDARD
BEGIN:DAYLIGHT
TZOFFSETFROM:-0600
TZOFFSETTO:-0500
TZNAME:CDT
DTSTART:20260308T080000
END:DAYLIGHT
BEGIN:STANDARD
TZOFFSETFROM:-0500
TZOFFSETTO:-0600
TZNAME:CST
DTSTART:20261101T070000
END:STANDARD
BEGIN:DAYLIGHT
TZOFFSETFROM:-0600
TZOFFSETTO:-0500
TZNAME:CDT
DTSTART:20270314T080000
END:DAYLIGHT
BEGIN:STANDARD
TZOFFSETFROM:-0500
TZOFFSETTO:-0600
TZNAME:CST
DTSTART:20271107T070000
END:STANDARD
END:VTIMEZONE
BEGIN:VEVENT
DTSTART;TZID=America/Chicago:20260204T180000
DTEND;TZID=America/Chicago:20260311T190000
DTSTAMP:20260423T093110
CREATED:20260115T160301Z
LAST-MODIFIED:20260120T141522Z
UID:1575-1770228000-1773255600@magic-athletics.com
SUMMARY:Cheer Workshop Session 3
DESCRIPTION:[vc_row][vc_column][vc_single_image image=”1576″ img_size=”full” alignment=”center” css=””][vc_empty_space][vc_column_text css=””]\nGet ready to cheer\, jump\, and shout! Magic Athletics is excited to offer our Cheer Workshop Class. This dynamic class will have your child learning the basics of cheerleading\, including cheers\, jumps\, and basic stunts\, all while having a blast and building confidence! This class is 6 weeks long for one hour a week! \nThis workshop will include a performance outfit and a mini showcase that will be held during the final week of class! \nDate: Wednesdays beginning February 4th\nTime: 6:00 PM – 7:00 PMAges: 4-18Cost: $80 \n[/vc_column_text][vc_empty_space][vc_custom_heading text=”REGISTER TODAY” use_theme_fonts=”yes”][vc_separator style=”solid” color=”#000000″ padding_top=”10″ padding_bottom=”20″]\n\n                \n                        \n							"*" indicates required fields \n                        \n                        Parent/Guardian's Name*\n                            \n                            \n                                                    \n                                                    First\n                                                \n                            \n                            \n                                                    \n                                                    Last\n                                                \n                            \n                        Email*\n                            \n                        Phone*Participants\n\n	\n\n		\n		\n							\n					Child's Name				\n							\n					Date Of Birth				\n							\n					Age				\n						Actions\n		\n		\n\n		\n		\n							 \n							 \n							 \n						\n				\n					Edit\n										Delete\n				\n			\n		\n		\n\n		\n		\n			\n				There are no Participants.			\n		\n		\n\n	\n\n	\n				Add Participant\n				\n			\n				Maximum number of participants reached.\n			 \n\nEvent Fee*\n					\n					\n						Price:\n						$0.00\n					\n					\n					\n				Total\n							\n						Credit Card*Card Details\n					\n					Cardholder Name\n				\n			\n          \n            \n            \n            \n            \n            \n            \n            \n            \n            \n            \n            \n            \n            \n        \n                        Δ \n                        \n[vc_empty_space height=”10px”][/vc_column][/vc_row]
URL:https://magic-athletics.com/event/cheer-workshop-session-3/
CATEGORIES:Upcoming Events
ATTACH;FMTTYPE=image/png:https://magic-athletics.com/wp-content/uploads/2026/01/Cheer-Workshop-Graphic-.png
END:VEVENT
BEGIN:VEVENT
DTSTART;VALUE=DATE:20260526
DTEND;VALUE=DATE:20260527
DTSTAMP:20260423T093110
CREATED:20260127T212338Z
LAST-MODIFIED:20260127T212338Z
UID:1592-1779753600-1779839999@magic-athletics.com
SUMMARY:May 26th\, Kick Off To Summer
DESCRIPTION:
URL:https://magic-athletics.com/test-summer-camps/#register
CATEGORIES:Summer Camp Day
END:VEVENT
BEGIN:VEVENT
DTSTART;VALUE=DATE:20260526
DTEND;VALUE=DATE:20260530
DTSTAMP:20260423T093110
CREATED:20260127T204416Z
LAST-MODIFIED:20260127T204416Z
UID:1581-1779753600-1780099199@magic-athletics.com
SUMMARY:Kick Off To Summer
DESCRIPTION:
URL:https://magic-athletics.com/test-summer-camps/#register
CATEGORIES:Summer Camp Week
END:VEVENT
BEGIN:VEVENT
DTSTART;VALUE=DATE:20260527
DTEND;VALUE=DATE:20260528
DTSTAMP:20260423T093110
CREATED:20260127T212403Z
LAST-MODIFIED:20260127T212403Z
UID:1593-1779840000-1779926399@magic-athletics.com
SUMMARY:May 27th\, Kick Off To Summer
DESCRIPTION:
URL:https://magic-athletics.com/test-summer-camps/#register
CATEGORIES:Summer Camp Day
END:VEVENT
BEGIN:VEVENT
DTSTART;VALUE=DATE:20260528
DTEND;VALUE=DATE:20260529
DTSTAMP:20260423T093110
CREATED:20260127T212429Z
LAST-MODIFIED:20260127T212429Z
UID:1594-1779926400-1780012799@magic-athletics.com
SUMMARY:May 28th\, Kick Off To Summer
DESCRIPTION:
URL:https://magic-athletics.com/test-summer-camps/#register
CATEGORIES:Summer Camp Day
END:VEVENT
BEGIN:VEVENT
DTSTART;VALUE=DATE:20260529
DTEND;VALUE=DATE:20260530
DTSTAMP:20260423T093110
CREATED:20260127T212455Z
LAST-MODIFIED:20260127T212455Z
UID:1595-1780012800-1780099199@magic-athletics.com
SUMMARY:May 29th\, Kick Off To Summer
DESCRIPTION:
URL:https://magic-athletics.com/test-summer-camps/#register
CATEGORIES:Summer Camp Day
END:VEVENT
BEGIN:VEVENT
DTSTART;VALUE=DATE:20260601
DTEND;VALUE=DATE:20260602
DTSTAMP:20260423T093110
CREATED:20260127T212559Z
LAST-MODIFIED:20260127T212559Z
UID:1596-1780272000-1780358399@magic-athletics.com
SUMMARY:June 1st\, Ninja Week
DESCRIPTION:
URL:https://magic-athletics.com/test-summer-camps/#register
CATEGORIES:Summer Camp Day
END:VEVENT
BEGIN:VEVENT
DTSTART;VALUE=DATE:20260601
DTEND;VALUE=DATE:20260606
DTSTAMP:20260423T093110
CREATED:20260127T204524Z
LAST-MODIFIED:20260127T204524Z
UID:1582-1780272000-1780703999@magic-athletics.com
SUMMARY:Ninja Week
DESCRIPTION:
URL:https://magic-athletics.com/test-summer-camps/#register
CATEGORIES:Summer Camp Week
END:VEVENT
BEGIN:VEVENT
DTSTART;VALUE=DATE:20260602
DTEND;VALUE=DATE:20260603
DTSTAMP:20260423T093110
CREATED:20260127T212635Z
LAST-MODIFIED:20260127T212635Z
UID:1597-1780358400-1780444799@magic-athletics.com
SUMMARY:June 2nd\, Ninja Week
DESCRIPTION:
URL:https://magic-athletics.com/test-summer-camps/#register
CATEGORIES:Summer Camp Day
END:VEVENT
BEGIN:VEVENT
DTSTART;VALUE=DATE:20260603
DTEND;VALUE=DATE:20260604
DTSTAMP:20260423T093110
CREATED:20260127T212703Z
LAST-MODIFIED:20260127T212703Z
UID:1598-1780444800-1780531199@magic-athletics.com
SUMMARY:June 3rd\, Ninja Week
DESCRIPTION:
URL:https://magic-athletics.com/test-summer-camps/#register
CATEGORIES:Summer Camp Day
END:VEVENT
BEGIN:VEVENT
DTSTART;VALUE=DATE:20260604
DTEND;VALUE=DATE:20260605
DTSTAMP:20260423T093110
CREATED:20260127T212728Z
LAST-MODIFIED:20260127T212728Z
UID:1599-1780531200-1780617599@magic-athletics.com
SUMMARY:June 4th\, Ninja Week
DESCRIPTION:
URL:https://magic-athletics.com/test-summer-camps/#register
CATEGORIES:Summer Camp Day
END:VEVENT
BEGIN:VEVENT
DTSTART;VALUE=DATE:20260605
DTEND;VALUE=DATE:20260606
DTSTAMP:20260423T093110
CREATED:20260127T212917Z
LAST-MODIFIED:20260127T212917Z
UID:1600-1780617600-1780703999@magic-athletics.com
SUMMARY:June 5th\, Ninja Week
DESCRIPTION:
URL:https://magic-athletics.com/test-summer-camps/#register
CATEGORIES:Summer Camp Day
END:VEVENT
BEGIN:VEVENT
DTSTART;VALUE=DATE:20260608
DTEND;VALUE=DATE:20260609
DTSTAMP:20260423T093110
CREATED:20260127T212953Z
LAST-MODIFIED:20260127T212953Z
UID:1601-1780876800-1780963199@magic-athletics.com
SUMMARY:June 8th\, Splash Camp
DESCRIPTION:
URL:https://magic-athletics.com/test-summer-camps/#register
CATEGORIES:Summer Camp Day
END:VEVENT
BEGIN:VEVENT
DTSTART;VALUE=DATE:20260608
DTEND;VALUE=DATE:20260613
DTSTAMP:20260423T093110
CREATED:20260127T204600Z
LAST-MODIFIED:20260127T204600Z
UID:1583-1780876800-1781308799@magic-athletics.com
SUMMARY:Splash Camp
DESCRIPTION:
URL:https://magic-athletics.com/test-summer-camps/#register
CATEGORIES:Summer Camp Week
END:VEVENT
BEGIN:VEVENT
DTSTART;VALUE=DATE:20260609
DTEND;VALUE=DATE:20260610
DTSTAMP:20260423T093110
CREATED:20260127T213021Z
LAST-MODIFIED:20260127T213021Z
UID:1603-1780963200-1781049599@magic-athletics.com
SUMMARY:June 9th\, Splash Camp
DESCRIPTION:
URL:https://magic-athletics.com/test-summer-camps/#register
CATEGORIES:Summer Camp Day
END:VEVENT
BEGIN:VEVENT
DTSTART;VALUE=DATE:20260610
DTEND;VALUE=DATE:20260611
DTSTAMP:20260423T093110
CREATED:20260127T213108Z
LAST-MODIFIED:20260127T213108Z
UID:1604-1781049600-1781135999@magic-athletics.com
SUMMARY:June 10th\, Splash Camp
DESCRIPTION:
URL:https://magic-athletics.com/test-summer-camps/#register
CATEGORIES:Summer Camp Day
END:VEVENT
BEGIN:VEVENT
DTSTART;VALUE=DATE:20260611
DTEND;VALUE=DATE:20260612
DTSTAMP:20260423T093110
CREATED:20260127T213145Z
LAST-MODIFIED:20260127T213145Z
UID:1605-1781136000-1781222399@magic-athletics.com
SUMMARY:June 11th\, Splash Camp
DESCRIPTION:
URL:https://magic-athletics.com/test-summer-camps/#register
CATEGORIES:Summer Camp Day
END:VEVENT
BEGIN:VEVENT
DTSTART;VALUE=DATE:20260612
DTEND;VALUE=DATE:20260613
DTSTAMP:20260423T093110
CREATED:20260127T213214Z
LAST-MODIFIED:20260127T213214Z
UID:1606-1781222400-1781308799@magic-athletics.com
SUMMARY:June 12th\, Splash Camp
DESCRIPTION:
URL:https://magic-athletics.com/test-summer-camps/#register
CATEGORIES:Summer Camp Day
END:VEVENT
BEGIN:VEVENT
DTSTART;VALUE=DATE:20260615
DTEND;VALUE=DATE:20260616
DTSTAMP:20260423T093110
CREATED:20260127T213332Z
LAST-MODIFIED:20260127T213332Z
UID:1607-1781481600-1781567999@magic-athletics.com
SUMMARY:June 15th\, First Responders Week
DESCRIPTION:
URL:https://magic-athletics.com/test-summer-camps/#register
CATEGORIES:Summer Camp Day
END:VEVENT
BEGIN:VEVENT
DTSTART;VALUE=DATE:20260615
DTEND;VALUE=DATE:20260620
DTSTAMP:20260423T093110
CREATED:20260127T204721Z
LAST-MODIFIED:20260127T204721Z
UID:1584-1781481600-1781913599@magic-athletics.com
SUMMARY:First Responders Week
DESCRIPTION:
URL:https://magic-athletics.com/test-summer-camps/#register
CATEGORIES:Summer Camp Week
END:VEVENT
BEGIN:VEVENT
DTSTART;VALUE=DATE:20260616
DTEND;VALUE=DATE:20260617
DTSTAMP:20260423T093110
CREATED:20260127T213356Z
LAST-MODIFIED:20260127T213356Z
UID:1608-1781568000-1781654399@magic-athletics.com
SUMMARY:June 16th\, First Responders Week
DESCRIPTION:
URL:https://magic-athletics.com/test-summer-camps/#register
CATEGORIES:Summer Camp Day
END:VEVENT
BEGIN:VEVENT
DTSTART;VALUE=DATE:20260617
DTEND;VALUE=DATE:20260618
DTSTAMP:20260423T093110
CREATED:20260127T213418Z
LAST-MODIFIED:20260127T213418Z
UID:1610-1781654400-1781740799@magic-athletics.com
SUMMARY:June 17th\, First Responders Week
DESCRIPTION:
URL:https://magic-athletics.com/test-summer-camps/#register
CATEGORIES:Summer Camp Day
END:VEVENT
BEGIN:VEVENT
DTSTART;VALUE=DATE:20260618
DTEND;VALUE=DATE:20260619
DTSTAMP:20260423T093110
CREATED:20260127T213436Z
LAST-MODIFIED:20260127T213436Z
UID:1611-1781740800-1781827199@magic-athletics.com
SUMMARY:June 18th\, First Responders Week
DESCRIPTION:
URL:https://magic-athletics.com/test-summer-camps/#register
CATEGORIES:Summer Camp Day
END:VEVENT
BEGIN:VEVENT
DTSTART;VALUE=DATE:20260619
DTEND;VALUE=DATE:20260620
DTSTAMP:20260423T093110
CREATED:20260127T213500Z
LAST-MODIFIED:20260127T213500Z
UID:1612-1781827200-1781913599@magic-athletics.com
SUMMARY:June 19th\, First Responders Week
DESCRIPTION:
URL:https://magic-athletics.com/test-summer-camps/#register
CATEGORIES:Summer Camp Day
END:VEVENT
BEGIN:VEVENT
DTSTART;VALUE=DATE:20260622
DTEND;VALUE=DATE:20260623
DTSTAMP:20260423T093110
CREATED:20260127T213544Z
LAST-MODIFIED:20260127T213544Z
UID:1613-1782086400-1782172799@magic-athletics.com
SUMMARY:June 22nd\, Nerf Week
DESCRIPTION:
URL:https://magic-athletics.com/test-summer-camps/#register
CATEGORIES:Summer Camp Day
END:VEVENT
BEGIN:VEVENT
DTSTART;VALUE=DATE:20260622
DTEND;VALUE=DATE:20260627
DTSTAMP:20260423T093110
CREATED:20260127T204816Z
LAST-MODIFIED:20260127T210527Z
UID:1585-1782086400-1782518399@magic-athletics.com
SUMMARY:Nerf Week
DESCRIPTION:
URL:https://magic-athletics.com/test-summer-camps/#register
CATEGORIES:Summer Camp Week
END:VEVENT
BEGIN:VEVENT
DTSTART;VALUE=DATE:20260623
DTEND;VALUE=DATE:20260624
DTSTAMP:20260423T093110
CREATED:20260127T213628Z
LAST-MODIFIED:20260127T213628Z
UID:1615-1782172800-1782259199@magic-athletics.com
SUMMARY:June 23rd\, Nerf Week
DESCRIPTION:
URL:https://magic-athletics.com/test-summer-camps/#register
CATEGORIES:Summer Camp Day
END:VEVENT
BEGIN:VEVENT
DTSTART;VALUE=DATE:20260624
DTEND;VALUE=DATE:20260625
DTSTAMP:20260423T093110
CREATED:20260127T214001Z
LAST-MODIFIED:20260127T214001Z
UID:1617-1782259200-1782345599@magic-athletics.com
SUMMARY:June 24th\, Nerf Week
DESCRIPTION:
URL:https://magic-athletics.com/test-summer-camps/#register
CATEGORIES:Summer Camp Day
END:VEVENT
BEGIN:VEVENT
DTSTART;VALUE=DATE:20260625
DTEND;VALUE=DATE:20260626
DTSTAMP:20260423T093110
CREATED:20260127T214032Z
LAST-MODIFIED:20260127T214032Z
UID:1618-1782345600-1782431999@magic-athletics.com
SUMMARY:June 25th\, Nerf Week
DESCRIPTION:
URL:https://magic-athletics.com/test-summer-camps/#register
CATEGORIES:Summer Camp Day
END:VEVENT
BEGIN:VEVENT
DTSTART;VALUE=DATE:20260626
DTEND;VALUE=DATE:20260627
DTSTAMP:20260423T093110
CREATED:20260127T214101Z
LAST-MODIFIED:20260127T214101Z
UID:1619-1782432000-1782518399@magic-athletics.com
SUMMARY:June 26th\, Nerf Week
DESCRIPTION:
URL:https://magic-athletics.com/test-summer-camps/#register
CATEGORIES:Summer Camp Day
END:VEVENT
END:VCALENDAR