BEGIN:VCALENDAR
VERSION:2.0
PRODID:-//Magic Athletics - ECPv6.15.20//NONSGML v1.0//EN
CALSCALE:GREGORIAN
METHOD:PUBLISH
X-ORIGINAL-URL:https://magic-athletics.com
X-WR-CALDESC:Events for Magic Athletics
REFRESH-INTERVAL;VALUE=DURATION:PT1H
X-Robots-Tag:noindex
X-PUBLISHED-TTL:PT1H
BEGIN:VTIMEZONE
TZID:America/Chicago
BEGIN:DAYLIGHT
TZOFFSETFROM:-0600
TZOFFSETTO:-0500
TZNAME:CDT
DTSTART:20240310T080000
END:DAYLIGHT
BEGIN:STANDARD
TZOFFSETFROM:-0500
TZOFFSETTO:-0600
TZNAME:CST
DTSTART:20241103T070000
END:STANDARD
BEGIN:DAYLIGHT
TZOFFSETFROM:-0600
TZOFFSETTO:-0500
TZNAME:CDT
DTSTART:20250309T080000
END:DAYLIGHT
BEGIN:STANDARD
TZOFFSETFROM:-0500
TZOFFSETTO:-0600
TZNAME:CST
DTSTART:20251102T070000
END:STANDARD
BEGIN:DAYLIGHT
TZOFFSETFROM:-0600
TZOFFSETTO:-0500
TZNAME:CDT
DTSTART:20260308T080000
END:DAYLIGHT
BEGIN:STANDARD
TZOFFSETFROM:-0500
TZOFFSETTO:-0600
TZNAME:CST
DTSTART:20261101T070000
END:STANDARD
END:VTIMEZONE
BEGIN:VEVENT
DTSTART;VALUE=DATE:20250707
DTEND;VALUE=DATE:20250712
DTSTAMP:20260421T033153
CREATED:20250307T170852Z
LAST-MODIFIED:20250310T205639Z
UID:1342-1751846400-1752278399@magic-athletics.com
SUMMARY:First Responder Week
DESCRIPTION:
URL:https://magic-athletics.com/summer-camps/
CATEGORIES:Summer Camp Week
END:VEVENT
BEGIN:VEVENT
DTSTART;VALUE=DATE:20250714
DTEND;VALUE=DATE:20250719
DTSTAMP:20260421T033153
CREATED:20250307T170924Z
LAST-MODIFIED:20250310T205624Z
UID:1343-1752451200-1752883199@magic-athletics.com
SUMMARY:Splash Camp
DESCRIPTION:
URL:https://magic-athletics.com/summer-camps/
CATEGORIES:Summer Camp Week
END:VEVENT
BEGIN:VEVENT
DTSTART;VALUE=DATE:20250721
DTEND;VALUE=DATE:20250726
DTSTAMP:20260421T033153
CREATED:20250307T171001Z
LAST-MODIFIED:20250310T205610Z
UID:1344-1753056000-1753487999@magic-athletics.com
SUMMARY:Ninja Warrior Camp
DESCRIPTION:
URL:https://magic-athletics.com/summer-camps/
CATEGORIES:Summer Camp Week
END:VEVENT
BEGIN:VEVENT
DTSTART;VALUE=DATE:20250728
DTEND;VALUE=DATE:20250802
DTSTAMP:20260421T033153
CREATED:20250307T171051Z
LAST-MODIFIED:20250310T205519Z
UID:1345-1753660800-1754092799@magic-athletics.com
SUMMARY:End-Of-Summer Party!
DESCRIPTION:
URL:https://magic-athletics.com/summer-camps/
CATEGORIES:Summer Camp Week
END:VEVENT
END:VCALENDAR